Package: SCAN.UPC Version: 2.50.0 Command: rm -rf SCAN.UPC.buildbin-libdir && mkdir SCAN.UPC.buildbin-libdir && /Users/biocbuild/BBS/utils/build-universal.sh SCAN.UPC_2.50.0.tar.gz /Library/Frameworks/R.framework/Resources/bin/R SCAN.UPC.buildbin-libdir StartedAt: 2025-10-15 20:19:03 -0400 (Wed, 15 Oct 2025) EndedAt: 2025-10-15 20:19:45 -0400 (Wed, 15 Oct 2025) EllapsedTime: 42.2 seconds RetCode: 0 Status: OK PackageFile: SCAN.UPC_2.50.0.tgz PackageFileSize: 553.7 KiB