Package: SC3 Version: 1.36.0 Command: /Library/Frameworks/R.framework/Resources/bin/R CMD INSTALL SC3 StartedAt: 2025-10-13 15:34:49 -0400 (Mon, 13 Oct 2025) EndedAt: 2025-10-13 15:36:21 -0400 (Mon, 13 Oct 2025) EllapsedTime: 91.8 seconds RetCode: 0 Status: OK