Package: SC3 Version: 1.36.0 Command: /Library/Frameworks/R.framework/Resources/bin/R CMD build --keep-empty-dirs --no-resave-data SC3 StartedAt: 2025-10-13 22:15:44 -0400 (Mon, 13 Oct 2025) EndedAt: 2025-10-13 22:32:17 -0400 (Mon, 13 Oct 2025) EllapsedTime: 993.4 seconds RetCode: 0 Status: OK PackageFile: SC3_1.36.0.tar.gz PackageFileSize: 3.373 MiB