Package: SC3 Version: 1.36.0 Command: /Library/Frameworks/R.framework/Resources/bin/R CMD build --keep-empty-dirs --no-resave-data SC3 StartedAt: 2025-10-14 08:26:11 -0400 (Tue, 14 Oct 2025) EndedAt: 2025-10-14 08:34:59 -0400 (Tue, 14 Oct 2025) EllapsedTime: 528.3 seconds RetCode: 0 Status: OK PackageFile: SC3_1.36.0.tar.gz PackageFileSize: 3.375 MiB