Package: S4Arrays Version: 1.8.1 Command: /home/biocbuild/R/R/bin/R CMD INSTALL S4Arrays StartedAt: 2025-10-13 20:26:32 -0000 (Mon, 13 Oct 2025) EndedAt: 2025-10-13 20:26:56 -0000 (Mon, 13 Oct 2025) EllapsedTime: 24.0 seconds RetCode: 0 Status: OK