Package: S4Arrays Version: 1.8.1 Command: /home/biocbuild/R/R/bin/R CMD build --keep-empty-dirs --no-resave-data S4Arrays StartedAt: 2025-10-14 04:16:54 -0000 (Tue, 14 Oct 2025) EndedAt: 2025-10-14 04:17:25 -0000 (Tue, 14 Oct 2025) EllapsedTime: 31.0 seconds RetCode: 0 Status: OK PackageFile: S4Arrays_1.8.1.tar.gz PackageFileSize: 311.9 KiB