Package: Rvisdiff Version: 1.6.0 Command: /home/biocbuild/bbs-3.21-bioc/R/bin/R CMD build --keep-empty-dirs --no-resave-data Rvisdiff StartedAt: 2025-10-15 19:37:41 -0400 (Wed, 15 Oct 2025) EndedAt: 2025-10-15 19:38:46 -0400 (Wed, 15 Oct 2025) EllapsedTime: 65.1 seconds RetCode: 0 Status: OK PackageFile: Rvisdiff_1.6.0.tar.gz PackageFileSize: 1.314 MiB