Package: Rvisdiff Version: 1.6.0 Command: /Library/Frameworks/R.framework/Resources/bin/R CMD INSTALL Rvisdiff StartedAt: 2025-10-13 15:07:45 -0400 (Mon, 13 Oct 2025) EndedAt: 2025-10-13 15:08:17 -0400 (Mon, 13 Oct 2025) EllapsedTime: 31.5 seconds RetCode: 0 Status: OK