Package: Rvisdiff Version: 1.6.0 Command: /home/biocbuild/R/R/bin/R CMD build --keep-empty-dirs --no-resave-data Rvisdiff StartedAt: 2025-10-14 04:16:43 -0000 (Tue, 14 Oct 2025) EndedAt: 2025-10-14 04:18:13 -0000 (Tue, 14 Oct 2025) EllapsedTime: 90.1 seconds RetCode: 0 Status: OK PackageFile: Rvisdiff_1.6.0.tar.gz PackageFileSize: 1.379 MiB