Package: Rtreemix Version: 1.70.0 Command: /home/biocbuild/bbs-3.21-bioc/R/bin/R CMD INSTALL Rtreemix StartedAt: 2025-10-15 15:13:14 -0400 (Wed, 15 Oct 2025) EndedAt: 2025-10-15 15:14:06 -0400 (Wed, 15 Oct 2025) EllapsedTime: 51.5 seconds RetCode: 0 Status: OK