Package: Rtreemix Version: 1.70.0 Command: /home/biocbuild/bbs-3.21-bioc/R/bin/R CMD build --keep-empty-dirs --no-resave-data Rtreemix StartedAt: 2025-10-15 19:36:42 -0400 (Wed, 15 Oct 2025) EndedAt: 2025-10-15 19:37:36 -0400 (Wed, 15 Oct 2025) EllapsedTime: 54.0 seconds RetCode: 1 Status: ERROR PackageFile: None PackageFileSize: NA