Package: Rtreemix Version: 1.70.0 Command: /home/biocbuild/R/R/bin/R CMD build --keep-empty-dirs --no-resave-data Rtreemix StartedAt: 2025-10-14 04:15:21 -0000 (Tue, 14 Oct 2025) EndedAt: 2025-10-14 04:16:43 -0000 (Tue, 14 Oct 2025) EllapsedTime: 82.0 seconds RetCode: 1 Status: ERROR PackageFile: None PackageFileSize: NA