Package: Rtreemix Version: 1.70.0 Command: /Library/Frameworks/R.framework/Resources/bin/R CMD INSTALL Rtreemix StartedAt: 2025-10-13 15:55:15 -0400 (Mon, 13 Oct 2025) EndedAt: 2025-10-13 15:56:08 -0400 (Mon, 13 Oct 2025) EllapsedTime: 53.4 seconds RetCode: 0 Status: OK