Package: Rtreemix Version: 1.70.0 Command: /Library/Frameworks/R.framework/Resources/bin/R CMD build --keep-empty-dirs --no-resave-data Rtreemix StartedAt: 2025-10-14 08:16:41 -0400 (Tue, 14 Oct 2025) EndedAt: 2025-10-14 08:17:40 -0400 (Tue, 14 Oct 2025) EllapsedTime: 58.8 seconds RetCode: 1 Status: ERROR PackageFile: None PackageFileSize: NA