Package: Rmmquant Version: 1.26.0 Command: /home/biocbuild/bbs-3.21-bioc/R/bin/R CMD INSTALL Rmmquant StartedAt: 2025-10-15 15:38:09 -0400 (Wed, 15 Oct 2025) EndedAt: 2025-10-15 15:39:06 -0400 (Wed, 15 Oct 2025) EllapsedTime: 57.8 seconds RetCode: 0 Status: OK