Package: Rmmquant Version: 1.26.0 Command: /home/biocbuild/bbs-3.21-bioc/R/bin/R CMD build --keep-empty-dirs --no-resave-data Rmmquant StartedAt: 2025-10-15 19:31:27 -0400 (Wed, 15 Oct 2025) EndedAt: 2025-10-15 19:32:48 -0400 (Wed, 15 Oct 2025) EllapsedTime: 80.1 seconds RetCode: 0 Status: OK PackageFile: Rmmquant_1.26.0.tar.gz PackageFileSize: 44.86 KiB