Package: Rmmquant Version: 1.26.0 Command: /Library/Frameworks/R.framework/Resources/bin/R CMD INSTALL Rmmquant StartedAt: 2025-10-13 17:12:56 -0400 (Mon, 13 Oct 2025) EndedAt: 2025-10-13 17:13:58 -0400 (Mon, 13 Oct 2025) EllapsedTime: 62.6 seconds RetCode: 0 Status: OK