Package: Rigraphlib Version: 1.0.0 Command: /home/biocbuild/bbs-3.21-bioc/R/bin/R CMD check --install=check:Rigraphlib.install-out.txt --library=/home/biocbuild/bbs-3.21-bioc/R/site-library --timings Rigraphlib_1.0.0.tar.gz StartedAt: 2025-10-16 02:53:05 -0400 (Thu, 16 Oct 2025) EndedAt: 2025-10-16 02:53:21 -0400 (Thu, 16 Oct 2025) EllapsedTime: 16.0 seconds RetCode: 0 Status: WARNINGS CheckDir: Rigraphlib.Rcheck Warnings: 1