Package: Rigraphlib Version: 1.0.0 Command: /home/biocbuild/R/R/bin/R CMD INSTALL Rigraphlib StartedAt: 2025-10-13 20:15:55 -0000 (Mon, 13 Oct 2025) EndedAt: 2025-10-13 20:20:54 -0000 (Mon, 13 Oct 2025) EllapsedTime: 299.4 seconds RetCode: 0 Status: OK