Package: Rigraphlib Version: 1.0.0 Command: /home/biocbuild/R/R/bin/R CMD build --keep-empty-dirs --no-resave-data Rigraphlib StartedAt: 2025-10-14 04:04:39 -0000 (Tue, 14 Oct 2025) EndedAt: 2025-10-14 04:04:53 -0000 (Tue, 14 Oct 2025) EllapsedTime: 14.0 seconds RetCode: 0 Status: OK PackageFile: Rigraphlib_1.0.0.tar.gz PackageFileSize: 4.347 MiB