Package: Rigraphlib Version: 1.0.0 Command: /Library/Frameworks/R.framework/Resources/bin/R CMD INSTALL Rigraphlib StartedAt: 2025-10-13 15:14:56 -0400 (Mon, 13 Oct 2025) EndedAt: 2025-10-13 15:18:43 -0400 (Mon, 13 Oct 2025) EllapsedTime: 226.8 seconds RetCode: 0 Status: OK