Package: Rigraphlib Version: 1.0.0 Command: /Library/Frameworks/R.framework/Resources/bin/R CMD build --keep-empty-dirs --no-resave-data Rigraphlib StartedAt: 2025-10-14 07:52:28 -0400 (Tue, 14 Oct 2025) EndedAt: 2025-10-14 07:52:56 -0400 (Tue, 14 Oct 2025) EllapsedTime: 27.3 seconds RetCode: 0 Status: OK PackageFile: Rigraphlib_1.0.0.tar.gz PackageFileSize: 4.323 MiB