Package: Rigraphlib Version: 1.0.0 Command: rm -rf Rigraphlib.buildbin-libdir && mkdir Rigraphlib.buildbin-libdir && /Users/biocbuild/BBS/utils/build-universal.sh Rigraphlib_1.0.0.tar.gz /Library/Frameworks/R.framework/Resources/bin/R Rigraphlib.buildbin-libdir StartedAt: 2025-10-15 20:09:08 -0400 (Wed, 15 Oct 2025) EndedAt: 2025-10-15 20:13:12 -0400 (Wed, 15 Oct 2025) EllapsedTime: 243.8 seconds RetCode: 0 Status: OK PackageFile: Rigraphlib_1.0.0.tgz PackageFileSize: 7.853 MiB