Package: RiboProfiling Version: 1.38.0 Command: /home/biocbuild/R/R/bin/R CMD build --keep-empty-dirs --no-resave-data RiboProfiling StartedAt: 2025-10-14 04:02:41 -0000 (Tue, 14 Oct 2025) EndedAt: 2025-10-14 04:07:01 -0000 (Tue, 14 Oct 2025) EllapsedTime: 259.1 seconds RetCode: 0 Status: OK PackageFile: RiboProfiling_1.38.0.tar.gz PackageFileSize: 4.629 MiB