Package: RiboCrypt Version: 1.14.1 Command: /home/biocbuild/R/R/bin/R CMD INSTALL RiboCrypt StartedAt: 2025-10-13 20:56:57 -0000 (Mon, 13 Oct 2025) EndedAt: 2025-10-13 20:58:10 -0000 (Mon, 13 Oct 2025) EllapsedTime: 72.2 seconds RetCode: 0 Status: OK