Package: RiboCrypt Version: 1.14.1 Command: /home/biocbuild/R/R/bin/R CMD build --keep-empty-dirs --no-resave-data RiboCrypt StartedAt: 2025-10-14 04:02:31 -0000 (Tue, 14 Oct 2025) EndedAt: 2025-10-14 04:04:42 -0000 (Tue, 14 Oct 2025) EllapsedTime: 130.0 seconds RetCode: 0 Status: OK PackageFile: RiboCrypt_1.14.1.tar.gz PackageFileSize: 12.84 MiB