Package: Rhtslib Version: 3.4.0 Command: rm -rf Rhtslib.buildbin-libdir && mkdir Rhtslib.buildbin-libdir && /Users/biocbuild/BBS/utils/build-universal.sh Rhtslib_3.4.0.tar.gz /Library/Frameworks/R.framework/Resources/bin/R Rhtslib.buildbin-libdir StartedAt: 2025-10-14 14:33:32 -0400 (Tue, 14 Oct 2025) EndedAt: 2025-10-14 14:35:06 -0400 (Tue, 14 Oct 2025) EllapsedTime: 94.0 seconds RetCode: 0 Status: OK PackageFile: Rhtslib_3.4.0.tgz PackageFileSize: 3.31 MiB