Package: Rhdf5lib Version: 1.30.0 Command: /home/biocbuild/bbs-3.21-bioc/R/bin/R CMD build --keep-empty-dirs --no-resave-data Rhdf5lib StartedAt: 2025-10-15 19:28:31 -0400 (Wed, 15 Oct 2025) EndedAt: 2025-10-15 19:32:15 -0400 (Wed, 15 Oct 2025) EllapsedTime: 223.2 seconds RetCode: 0 Status: OK PackageFile: Rhdf5lib_1.30.0.tar.gz PackageFileSize: 11.5 MiB