Package: Rhdf5lib Version: 1.30.0 Command: /Library/Frameworks/R.framework/Resources/bin/R CMD INSTALL Rhdf5lib StartedAt: 2025-10-13 15:05:38 -0400 (Mon, 13 Oct 2025) EndedAt: 2025-10-13 15:12:17 -0400 (Mon, 13 Oct 2025) EllapsedTime: 398.6 seconds RetCode: 0 Status: OK