Package: Rhdf5lib Version: 1.30.0 Command: rm -rf Rhdf5lib.buildbin-libdir && mkdir Rhdf5lib.buildbin-libdir && /Users/biocbuild/BBS/utils/build-universal.sh Rhdf5lib_1.30.0.tar.gz /Library/Frameworks/R.framework/Resources/bin/R Rhdf5lib.buildbin-libdir StartedAt: 2025-10-14 14:33:15 -0400 (Tue, 14 Oct 2025) EndedAt: 2025-10-14 14:44:33 -0400 (Tue, 14 Oct 2025) EllapsedTime: 677.4 seconds RetCode: 0 Status: OK PackageFile: Rhdf5lib_1.30.0.tgz PackageFileSize: 9.636 MiB