Package: Rhdf5lib Version: 1.30.0 Command: /home/biocbuild/R/R/bin/R CMD INSTALL Rhdf5lib StartedAt: 2025-10-13 20:12:20 -0000 (Mon, 13 Oct 2025) EndedAt: 2025-10-13 20:18:20 -0000 (Mon, 13 Oct 2025) EllapsedTime: 359.5 seconds RetCode: 0 Status: OK