Package: Rhdf5lib Version: 1.30.0 Command: /home/biocbuild/R/R/bin/R CMD build --keep-empty-dirs --no-resave-data Rhdf5lib StartedAt: 2025-10-14 04:01:53 -0000 (Tue, 14 Oct 2025) EndedAt: 2025-10-14 04:07:24 -0000 (Tue, 14 Oct 2025) EllapsedTime: 330.1 seconds RetCode: 0 Status: OK PackageFile: Rhdf5lib_1.30.0.tar.gz PackageFileSize: 11.55 MiB