Package: Rhdf5lib Version: 1.30.0 Command: /Library/Frameworks/R.framework/Resources/bin/R CMD build --keep-empty-dirs --no-resave-data Rhdf5lib StartedAt: 2025-10-14 07:45:50 -0400 (Tue, 14 Oct 2025) EndedAt: 2025-10-14 07:51:30 -0400 (Tue, 14 Oct 2025) EllapsedTime: 339.8 seconds RetCode: 0 Status: OK PackageFile: Rhdf5lib_1.30.0.tar.gz PackageFileSize: 11.5 MiB