Package: Rhdf5lib Version: 1.30.0 Command: rm -rf Rhdf5lib.buildbin-libdir && mkdir Rhdf5lib.buildbin-libdir && /Users/biocbuild/BBS/utils/build-universal.sh Rhdf5lib_1.30.0.tar.gz /Library/Frameworks/R.framework/Resources/bin/R Rhdf5lib.buildbin-libdir StartedAt: 2025-10-15 20:05:57 -0400 (Wed, 15 Oct 2025) EndedAt: 2025-10-15 20:11:56 -0400 (Wed, 15 Oct 2025) EllapsedTime: 359.3 seconds RetCode: 0 Status: OK PackageFile: Rhdf5lib_1.30.0.tgz PackageFileSize: 10.13 MiB