Package: Rgraphviz Version: 2.52.0 Command: /home/biocbuild/bbs-3.21-bioc/R/bin/R CMD INSTALL Rgraphviz StartedAt: 2025-10-15 15:12:34 -0400 (Wed, 15 Oct 2025) EndedAt: 2025-10-15 15:14:11 -0400 (Wed, 15 Oct 2025) EllapsedTime: 96.8 seconds RetCode: 0 Status: OK