Package: Rgraphviz Version: 2.52.0 Command: /home/biocbuild/R/R/bin/R CMD INSTALL Rgraphviz StartedAt: 2025-10-13 20:24:56 -0000 (Mon, 13 Oct 2025) EndedAt: 2025-10-13 20:26:44 -0000 (Mon, 13 Oct 2025) EllapsedTime: 108.1 seconds RetCode: 0 Status: OK