Package: Rgraphviz Version: 2.52.0 Command: /home/biocbuild/R/R/bin/R CMD build --keep-empty-dirs --no-resave-data Rgraphviz StartedAt: 2025-10-14 04:00:36 -0000 (Tue, 14 Oct 2025) EndedAt: 2025-10-14 04:02:37 -0000 (Tue, 14 Oct 2025) EllapsedTime: 121.0 seconds RetCode: 0 Status: OK PackageFile: Rgraphviz_2.52.0.tar.gz PackageFileSize: 7.284 MiB