Package: Rgraphviz Version: 2.52.0 Command: /Library/Frameworks/R.framework/Resources/bin/R CMD build --keep-empty-dirs --no-resave-data Rgraphviz StartedAt: 2025-10-14 07:42:43 -0400 (Tue, 14 Oct 2025) EndedAt: 2025-10-14 07:46:10 -0400 (Tue, 14 Oct 2025) EllapsedTime: 207.1 seconds RetCode: 0 Status: OK PackageFile: Rgraphviz_2.52.0.tar.gz PackageFileSize: 7.298 MiB