Package: Rgraphviz Version: 2.52.0 Command: rm -rf Rgraphviz.buildbin-libdir && mkdir Rgraphviz.buildbin-libdir && /Users/biocbuild/BBS/utils/build-universal.sh Rgraphviz_2.52.0.tar.gz /Library/Frameworks/R.framework/Resources/bin/R Rgraphviz.buildbin-libdir StartedAt: 2025-10-15 20:04:44 -0400 (Wed, 15 Oct 2025) EndedAt: 2025-10-15 20:08:00 -0400 (Wed, 15 Oct 2025) EllapsedTime: 196.2 seconds RetCode: 0 Status: OK PackageFile: Rgraphviz_2.52.0.tgz PackageFileSize: 1.685 MiB