Package: Rfastp Version: 1.18.0 Command: /home/biocbuild/R/R/bin/R CMD INSTALL Rfastp StartedAt: 2025-10-13 20:23:09 -0000 (Mon, 13 Oct 2025) EndedAt: 2025-10-13 20:25:08 -0000 (Mon, 13 Oct 2025) EllapsedTime: 119.7 seconds RetCode: 0 Status: OK