Package: ResidualMatrix Version: 1.18.0 Command: /home/biocbuild/R/R/bin/R CMD INSTALL ResidualMatrix StartedAt: 2025-10-13 20:28:39 -0000 (Mon, 13 Oct 2025) EndedAt: 2025-10-13 20:29:06 -0000 (Mon, 13 Oct 2025) EllapsedTime: 27.1 seconds RetCode: 0 Status: OK