Package: ResidualMatrix Version: 1.18.0 Command: /home/biocbuild/R/R/bin/R CMD build --keep-empty-dirs --no-resave-data ResidualMatrix StartedAt: 2025-10-14 03:59:06 -0000 (Tue, 14 Oct 2025) EndedAt: 2025-10-14 04:00:08 -0000 (Tue, 14 Oct 2025) EllapsedTime: 62.0 seconds RetCode: 0 Status: OK PackageFile: ResidualMatrix_1.18.0.tar.gz PackageFileSize: 400.8 KiB