Package: ResidualMatrix Version: 1.18.0 Command: /Library/Frameworks/R.framework/Resources/bin/R CMD INSTALL ResidualMatrix StartedAt: 2025-10-13 15:41:50 -0400 (Mon, 13 Oct 2025) EndedAt: 2025-10-13 15:42:11 -0400 (Mon, 13 Oct 2025) EllapsedTime: 21.0 seconds RetCode: 0 Status: OK