Package: ResidualMatrix Version: 1.18.0 Command: /Library/Frameworks/R.framework/Resources/bin/R CMD build --keep-empty-dirs --no-resave-data ResidualMatrix StartedAt: 2025-10-14 07:39:22 -0400 (Tue, 14 Oct 2025) EndedAt: 2025-10-14 07:40:15 -0400 (Tue, 14 Oct 2025) EllapsedTime: 52.3 seconds RetCode: 0 Status: OK PackageFile: ResidualMatrix_1.18.0.tar.gz PackageFileSize: 335.6 KiB