Package: ReportingTools Version: 2.48.0 Command: /home/biocbuild/bbs-3.21-bioc/R/bin/R CMD build --keep-empty-dirs --no-resave-data ReportingTools StartedAt: 2025-10-15 19:26:24 -0400 (Wed, 15 Oct 2025) EndedAt: 2025-10-15 19:27:34 -0400 (Wed, 15 Oct 2025) EllapsedTime: 70.1 seconds RetCode: 0 Status: OK PackageFile: ReportingTools_2.48.0.tar.gz PackageFileSize: 1.786 MiB