Package: ReportingTools Version: 2.48.0 Command: /home/biocbuild/R/R/bin/R CMD INSTALL ReportingTools StartedAt: 2025-10-13 21:03:43 -0000 (Mon, 13 Oct 2025) EndedAt: 2025-10-13 21:05:12 -0000 (Mon, 13 Oct 2025) EllapsedTime: 88.9 seconds RetCode: 0 Status: OK