Package: ReportingTools Version: 2.48.0 Command: /home/biocbuild/R/R/bin/R CMD build --keep-empty-dirs --no-resave-data ReportingTools StartedAt: 2025-10-14 03:58:49 -0000 (Tue, 14 Oct 2025) EndedAt: 2025-10-14 04:00:24 -0000 (Tue, 14 Oct 2025) EllapsedTime: 95.0 seconds RetCode: 0 Status: OK PackageFile: ReportingTools_2.48.0.tar.gz PackageFileSize: 1.773 MiB