Package: ReportingTools Version: 2.48.0 Command: /Library/Frameworks/R.framework/Resources/bin/R CMD build --keep-empty-dirs --no-resave-data ReportingTools StartedAt: 2025-10-14 07:38:14 -0400 (Tue, 14 Oct 2025) EndedAt: 2025-10-14 07:40:00 -0400 (Tue, 14 Oct 2025) EllapsedTime: 105.6 seconds RetCode: 0 Status: OK PackageFile: ReportingTools_2.48.0.tar.gz PackageFileSize: 1.786 MiB