Package: ReportingTools Version: 2.48.0 Command: rm -rf ReportingTools.buildbin-libdir && mkdir ReportingTools.buildbin-libdir && /Users/biocbuild/BBS/utils/build-universal.sh ReportingTools_2.48.0.tar.gz /Library/Frameworks/R.framework/Resources/bin/R ReportingTools.buildbin-libdir StartedAt: 2025-10-15 20:03:03 -0400 (Wed, 15 Oct 2025) EndedAt: 2025-10-15 20:04:25 -0400 (Wed, 15 Oct 2025) EllapsedTime: 82.2 seconds RetCode: 0 Status: OK PackageFile: ReportingTools_2.48.0.tgz PackageFileSize: 1.821 MiB