Package: Repitools Version: 1.54.0 Command: /Library/Frameworks/R.framework/Resources/bin/R CMD build --keep-empty-dirs --no-resave-data Repitools StartedAt: 2025-10-13 21:58:11 -0400 (Mon, 13 Oct 2025) EndedAt: 2025-10-13 21:58:14 -0400 (Mon, 13 Oct 2025) EllapsedTime: 2.1 seconds RetCode: 1 Status: ERROR PackageFile: None PackageFileSize: NA